BEGIN:VCALENDAR
VERSION:2.0
PRODID:-//The Alliance - ECPv6.15.16.1//NONSGML v1.0//EN
CALSCALE:GREGORIAN
METHOD:PUBLISH
X-ORIGINAL-URL:https://thealliance.foundation
X-WR-CALDESC:Events for The Alliance
REFRESH-INTERVAL;VALUE=DURATION:PT1H
X-Robots-Tag:noindex
X-PUBLISHED-TTL:PT1H
BEGIN:VTIMEZONE
TZID:UTC
BEGIN:STANDARD
TZOFFSETFROM:+0000
TZOFFSETTO:+0000
TZNAME:UTC
DTSTART:20220101T000000
END:STANDARD
END:VTIMEZONE
BEGIN:VEVENT
DTSTART;TZID=UTC:20230927T170000
DTEND;TZID=UTC:20230927T190000
DTSTAMP:20260425T155152
CREATED:20260315T225938Z
LAST-MODIFIED:20260315T225938Z
UID:678-1695834000-1695841200@thealliance.foundation
SUMMARY:The Alliance Social Mixer
DESCRIPTION:A CAED focused event for students\, faculty and Industry to meet and connect. Food and drinks included. All ages welcome! \nSeptember 27th\, 2023\n5pm – 7pm \nCentral Coast Brewing\nHiguera St. San Luis Obispo\, CA
URL:https://thealliance.foundation/event/the-alliance-social-mixer/
ATTACH;FMTTYPE=image/jpeg:https://thealliance.foundation/wp-content/uploads/2026/03/Event-Alliance-Mixer-9-27-23.jpg
END:VEVENT
END:VCALENDAR