BEGIN:VCALENDAR
VERSION:2.0
PRODID:-//The Alliance - ECPv6.15.16.1//NONSGML v1.0//EN
CALSCALE:GREGORIAN
METHOD:PUBLISH
X-WR-CALNAME:The Alliance
X-ORIGINAL-URL:https://thealliance.foundation
X-WR-CALDESC:Events for The Alliance
REFRESH-INTERVAL;VALUE=DURATION:PT1H
X-Robots-Tag:noindex
X-PUBLISHED-TTL:PT1H
BEGIN:VTIMEZONE
TZID:UTC
BEGIN:STANDARD
TZOFFSETFROM:+0000
TZOFFSETTO:+0000
TZNAME:UTC
DTSTART:20250101T000000
END:STANDARD
END:VTIMEZONE
BEGIN:VEVENT
DTSTART;TZID=UTC:20260507T180000
DTEND;TZID=UTC:20260507T210000
DTSTAMP:20260423T164059
CREATED:20260306T023818Z
LAST-MODIFIED:20260420T184559Z
UID:627-1778176800-1778187600@thealliance.foundation
SUMMARY:Takata Award - Honoring Fred Sweeney
DESCRIPTION:The Alliance Foundation is thrilled to invite you to an evening of dining and great conversation to honor our friend and colleague\, Fred Sweeney. \nAttire\, business attire\, event will be outdoors at Stearns Wharf so bring a sweater. No Host Bar. Please provide any dietary restrictions. Limited to 50 seats. \nPay for Event or Donate\n  \nIf you wish to send a check\, please make it payable to The Alliance at:\nPO Box 388\nCardiff\, CA 92007
URL:https://thealliance.foundation/event/takata-award-honoring-fred-sweeney/
LOCATION:Moby Dick’s Santa Barbara\, 200 Stearns Wharf. Santa Barbara CA\, Santa Barbara\, CA\, United States
ATTACH;FMTTYPE=image/jpeg:https://thealliance.foundation/wp-content/uploads/2026/03/TakataAward-Invite-Full.jpg
END:VEVENT
END:VCALENDAR