BEGIN:VCALENDAR
VERSION:2.0
PRODID:-//The Alliance - ECPv6.15.16.1//NONSGML v1.0//EN
CALSCALE:GREGORIAN
METHOD:PUBLISH
X-WR-CALNAME:The Alliance
X-ORIGINAL-URL:https://thealliance.foundation
X-WR-CALDESC:Events for The Alliance
REFRESH-INTERVAL;VALUE=DURATION:PT1H
X-Robots-Tag:noindex
X-PUBLISHED-TTL:PT1H
BEGIN:VTIMEZONE
TZID:UTC
BEGIN:STANDARD
TZOFFSETFROM:+0000
TZOFFSETTO:+0000
TZNAME:UTC
DTSTART:20250101T000000
END:STANDARD
END:VTIMEZONE
BEGIN:VEVENT
DTSTART;VALUE=DATE:20260426
DTEND;VALUE=DATE:20260428
DTSTAMP:20260423T150253
CREATED:20260315T233506Z
LAST-MODIFIED:20260315T233506Z
UID:700-1777161600-1777334399@thealliance.foundation
SUMMARY:Alliance Foundation Design Village
DESCRIPTION:Details TBA
URL:https://thealliance.foundation/event/alliance-foundation-design-village/
ATTACH;FMTTYPE=image/jpeg:https://thealliance.foundation/wp-content/uploads/2026/03/Events-Design-Village.jpg
END:VEVENT
END:VCALENDAR